BEGIN:VCALENDAR
VERSION:2.0
PRODID:-//Hälldala Ranch - ECPv6.8.3//NONSGML v1.0//EN
CALSCALE:GREGORIAN
METHOD:PUBLISH
X-WR-CALNAME:Hälldala Ranch
X-ORIGINAL-URL:https://www.halldalaranch.se
X-WR-CALDESC:Händelser för Hälldala Ranch
REFRESH-INTERVAL;VALUE=DURATION:PT1H
X-Robots-Tag:noindex
X-PUBLISHED-TTL:PT1H
BEGIN:VTIMEZONE
TZID:Europe/Stockholm
BEGIN:DAYLIGHT
TZOFFSETFROM:+0100
TZOFFSETTO:+0200
TZNAME:CEST
DTSTART:20260329T010000
END:DAYLIGHT
BEGIN:STANDARD
TZOFFSETFROM:+0200
TZOFFSETTO:+0100
TZNAME:CET
DTSTART:20261025T010000
END:STANDARD
END:VTIMEZONE
BEGIN:VEVENT
DTSTART;VALUE=DATE:20260426
DTEND;VALUE=DATE:20260427
DTSTAMP:20260426T012750
CREATED:20260422T170119Z
LAST-MODIFIED:20260422T170545Z
UID:1851-1777161600-1777247999@www.halldalaranch.se
SUMMARY:Flaggträning med Moreno Söderlund
DESCRIPTION:
URL:https://www.halldalaranch.se/event/flaggtraning-med-moreno-sodeerlund/
LOCATION:Hälldala Ranch\, Norra Kverrestad 410\, Tomelilla\, Österlen\, 273 96\, Sverige
CATEGORIES:Ridhuset
END:VEVENT
END:VCALENDAR